BEGIN:VCALENDAR
VERSION:2.0
PRODID:-//ChamberMaster//Event Calendar 2.0//EN
METHOD:PUBLISH
X-PUBLISHED-TTL:P3D
REFRESH-INTERVAL:P3D
CALSCALE:GREGORIAN
BEGIN:VEVENT
DTSTART:20260813T130000Z
DTEND:20260815T220000Z
X-MICROSOFT-CDO-ALLDAYEVENT:FALSE
SUMMARY:SUMMER SIDEWALK SALES
DESCRIPTION:Annual Summer Sidewalk Sales - always the third weekend in August!\nCharlevoix area merchants are excited to bring back their annual Summer Sidewalk Sales\, happening Thursday through Saturday\, August 13 15. Shoppers can enjoy deep discounts on a wide range of seasonal merchandise as businesses clear out inventory ahead of fall.\n\nFrom gift items and home d cor to clothing\, books\, jewelry\, and accessories\, there's something for everyone at unbeatable prices. Most shops will be set up outside from 9 a.m. to 6 p.m.\, with extended indoor shopping available afterward (hours may vary by location).\n\nPlan to shop early for the best selection and biggest savings\, and don't miss some of the best deals of the year at participating merchants throughout downtown Charlevoix and the surrounding area.\n\n\n**Participating merchants must be a brick and mortar- please no pop up shops.
X-ALT-DESC;FMTTYPE=text/html:<i>Annual Summer Sidewalk Sales - always the third weekend in August!</i>\n<p data-end="268" data-start="0">Charlevoix area merchants are excited to bring back their annual Summer Sidewalk Sales\, happening Thursday through Saturday\, August 13&ndash\;15. Shoppers can enjoy deep discounts on a wide range of seasonal merchandise as businesses clear out inventory ahead of fall.</p>\n\n<p data-end="536" data-start="270">From gift items and home d&eacute\;cor to clothing\, books\, jewelry\, and accessories\, there&rsquo\;s something for everyone at unbeatable prices. Most shops will be set up outside from 9 a.m. to 6 p.m.\, with extended indoor shopping available afterward (hours may vary by location).</p>\n\n<p data-end="734" data-is-last-node="" data-is-only-node="" data-start="538">Plan to shop early for the best selection and biggest savings\, and don&rsquo\;t miss some of the best deals of the year at participating merchants throughout downtown Charlevoix and the surrounding area.</p>\n<br />\n<span style="color: rgb(68\, 68\, 68)\; font-family: Arial\, Helvetica\, Geneva\, Swiss\, SunSans-Regular\; font-size: 14px\;">**Participating merchants must be a brick and mortar- please no pop up shops.&nbsp\;</span>
LOCATION:
UID:e.1716.14853
SEQUENCE:3
DTSTAMP:20260422T235957Z
URL:https://business.charlevoix.org/events/details/summer-sidewalk-sales-14853
END:VEVENT

END:VCALENDAR
